BEGIN:VCALENDAR
VERSION:2.0
PRODID:-//Festival di Cinema Africano - Verona - ECPv6.15.17//NONSGML v1.0//EN
CALSCALE:GREGORIAN
METHOD:PUBLISH
X-WR-CALNAME:Festival di Cinema Africano - Verona
X-ORIGINAL-URL:https://www.cinemafricano.it
X-WR-CALDESC:Eventi per Festival di Cinema Africano - Verona
REFRESH-INTERVAL;VALUE=DURATION:PT1H
X-Robots-Tag:noindex
X-PUBLISHED-TTL:PT1H
BEGIN:VTIMEZONE
TZID:Europe/Rome
BEGIN:DAYLIGHT
TZOFFSETFROM:+0100
TZOFFSETTO:+0200
TZNAME:CEST
DTSTART:20150329T010000
END:DAYLIGHT
BEGIN:STANDARD
TZOFFSETFROM:+0200
TZOFFSETTO:+0100
TZNAME:CET
DTSTART:20151025T010000
END:STANDARD
BEGIN:DAYLIGHT
TZOFFSETFROM:+0100
TZOFFSETTO:+0200
TZNAME:CEST
DTSTART:20160327T010000
END:DAYLIGHT
BEGIN:STANDARD
TZOFFSETFROM:+0200
TZOFFSETTO:+0100
TZNAME:CET
DTSTART:20161030T010000
END:STANDARD
BEGIN:DAYLIGHT
TZOFFSETFROM:+0100
TZOFFSETTO:+0200
TZNAME:CEST
DTSTART:20170326T010000
END:DAYLIGHT
BEGIN:STANDARD
TZOFFSETFROM:+0200
TZOFFSETTO:+0100
TZNAME:CET
DTSTART:20171029T010000
END:STANDARD
END:VTIMEZONE
BEGIN:VEVENT
DTSTART;TZID=Europe/Rome:20161106T100000
DTEND;TZID=Europe/Rome:20161106T193000
DTSTAMP:20260420T105237
CREATED:20161004T211634Z
LAST-MODIFIED:20161023T213941Z
UID:1623-1478426400-1478460600@www.cinemafricano.it
SUMMARY:Festival in Scena
DESCRIPTION:#FCAVLAB \nc/o Centro Polifunzionale Don Calabria\, via San Marco 121 – Verona (zona Stadio) \nAFELÈ Festival danza\, musica\, canto e sapori d’Africa  \norganizzato da DMeventi   \nInfo e prenotazioni 347-0146878 dmorganizzazione@gmail.com \nBimbi in Africa merenda con  AltroMercato \n10 -12 percussioni Sourakhata Dioubate \n16 -18 Lab arte africana e letture Associazione Leggere Insieme…Ancora! \n  \n10\,30-12 canto Kadi Coulibaly \n16\,30 -18 canto Kadi Coulibaly \n  \n14 -15\,30 danza tradizionale Sourakhata Dioubate I liv. \n15\,30 -17\,30 danza tradizionale Sourakhata Dioubate II liv. \n18 -19\,30 afro dance Carlos Kamizele \n 
URL:https://www.cinemafricano.it/event/festival-in-scena-2/
LOCATION:Centro Polifunzionale Don Calabria\, via San Marco 121\, Verona\, 37138\, Italia
CATEGORIES:Corso
ATTACH;FMTTYPE=image/jpeg:https://www.cinemafricano.it/wp-content/uploads/2016/10/volantino-afelè-festival.jpg
END:VEVENT
END:VCALENDAR