BEGIN:VCALENDAR
VERSION:2.0
PRODID:-//Festival di Cinema Africano - Verona - ECPv6.15.17//NONSGML v1.0//EN
CALSCALE:GREGORIAN
METHOD:PUBLISH
X-ORIGINAL-URL:https://www.cinemafricano.it
X-WR-CALDESC:Eventi per Festival di Cinema Africano - Verona
REFRESH-INTERVAL;VALUE=DURATION:PT1H
X-Robots-Tag:noindex
X-PUBLISHED-TTL:PT1H
BEGIN:VTIMEZONE
TZID:Europe/Rome
BEGIN:DAYLIGHT
TZOFFSETFROM:+0100
TZOFFSETTO:+0200
TZNAME:CEST
DTSTART:20150329T010000
END:DAYLIGHT
BEGIN:STANDARD
TZOFFSETFROM:+0200
TZOFFSETTO:+0100
TZNAME:CET
DTSTART:20151025T010000
END:STANDARD
BEGIN:DAYLIGHT
TZOFFSETFROM:+0100
TZOFFSETTO:+0200
TZNAME:CEST
DTSTART:20160327T010000
END:DAYLIGHT
BEGIN:STANDARD
TZOFFSETFROM:+0200
TZOFFSETTO:+0100
TZNAME:CET
DTSTART:20161030T010000
END:STANDARD
BEGIN:DAYLIGHT
TZOFFSETFROM:+0100
TZOFFSETTO:+0200
TZNAME:CEST
DTSTART:20170326T010000
END:DAYLIGHT
BEGIN:STANDARD
TZOFFSETFROM:+0200
TZOFFSETTO:+0100
TZNAME:CET
DTSTART:20171029T010000
END:STANDARD
END:VTIMEZONE
BEGIN:VEVENT
DTSTART;TZID=Europe/Rome:20161105T090000
DTEND;TZID=Europe/Rome:20161105T130000
DTSTAMP:20260420T105519
CREATED:20160915T140410Z
LAST-MODIFIED:20161023T214054Z
UID:1538-1478336400-1478350800@www.cinemafricano.it
SUMMARY:Occhio al Film!
DESCRIPTION:OCCHIO AL FILM. UN APPROCCIO AL CINEMA \nII° PERCORSO DI FORMAZIONE CINEMA E DIBATTITO IN SALA  \nDal 6 ottobre al 5 novembre 2016 presso l’Università degli Studi di Verona \nSabato  05 novembre ore 9.00 – 13.00 \nCinema africano e diaspora con il critico cinematografico Tahar Chickaoui\, docente all’Ecole des Arts et du cinéma in Tunisia. Si affronterà la cinematografia africana con una panoramica più ampia introducendo anche il cinema della diaspora. Sarà presente il regista Ferid Bentoumi\, ospite del 36° Festival di Verona\, che racconterà il suo percorso umano\, artistico e professionale a partire dalla presentazione di un suo cortometraggio. \nSarà l’occasione per sperimentare la conduzione del dibattito con l’autore.
URL:https://www.cinemafricano.it/event/occhio-al-film-6/
LOCATION:Università degli Studi di Verona\, via Campofiore\, Verona\, 37129\, Italia
CATEGORIES:Corso
ORGANIZER;CN="Festival di cinema africano":MAILTO:organizzazione@cinemafricano.it
END:VEVENT
END:VCALENDAR