BEGIN:VCALENDAR
VERSION:2.0
PRODID:-//Festival di Cinema Africano - Verona - ECPv6.15.17//NONSGML v1.0//EN
CALSCALE:GREGORIAN
METHOD:PUBLISH
X-WR-CALNAME:Festival di Cinema Africano - Verona
X-ORIGINAL-URL:https://www.cinemafricano.it
X-WR-CALDESC:Eventi per Festival di Cinema Africano - Verona
REFRESH-INTERVAL;VALUE=DURATION:PT1H
X-Robots-Tag:noindex
X-PUBLISHED-TTL:PT1H
BEGIN:VTIMEZONE
TZID:Europe/Rome
BEGIN:DAYLIGHT
TZOFFSETFROM:+0100
TZOFFSETTO:+0200
TZNAME:CEST
DTSTART:20150329T010000
END:DAYLIGHT
BEGIN:STANDARD
TZOFFSETFROM:+0200
TZOFFSETTO:+0100
TZNAME:CET
DTSTART:20151025T010000
END:STANDARD
BEGIN:DAYLIGHT
TZOFFSETFROM:+0100
TZOFFSETTO:+0200
TZNAME:CEST
DTSTART:20160327T010000
END:DAYLIGHT
BEGIN:STANDARD
TZOFFSETFROM:+0200
TZOFFSETTO:+0100
TZNAME:CET
DTSTART:20161030T010000
END:STANDARD
BEGIN:DAYLIGHT
TZOFFSETFROM:+0100
TZOFFSETTO:+0200
TZNAME:CEST
DTSTART:20170326T010000
END:DAYLIGHT
BEGIN:STANDARD
TZOFFSETFROM:+0200
TZOFFSETTO:+0100
TZNAME:CET
DTSTART:20171029T010000
END:STANDARD
END:VTIMEZONE
BEGIN:VEVENT
DTSTART;VALUE=DATE:20161013
DTEND;VALUE=DATE:20161014
DTSTAMP:20260420T123339
CREATED:20160915T135927Z
LAST-MODIFIED:20161014T143930Z
UID:1530-1476316800-1476403199@www.cinemafricano.it
SUMMARY:Occhio al Film!
DESCRIPTION:OCCHIO AL FILM. UN APPROCCIO AL CINEMA \nII° PERCORSO DI FORMAZIONE CINEMA E DIBATTITO IN SALA  \nDal 6 ottobre al 5 novembre 2016 presso l’Università degli Studi di Verona \nGiovedì 13 ottobre ore 17.20 – 18.50 \nIl cinema africano contemporaneo: nuove tendenze e generi con Giuseppe Gariazzo\, critico cinematografico\, esperto di cinema africano\, arabo e medio-orientale; consulente di  festival di cinema nazionali ed internazionali. A partire da un inquadramento sul cinema africano classico fino ad esplicitare la sua trasformazione e le nuove tendenze\, l’incontro verterà sull’analisi critica di un cortometraggio in programmazione al Festival e che sarà\, in una successiva lezione\, analizzato anche da un punto di vista semiologico da un altro docente.
URL:https://www.cinemafricano.it/event/occhio-al-film-2/
LOCATION:Università degli Studi di Verona\, via Campofiore\, Verona\, 37129\, Italia
CATEGORIES:Corso
ATTACH;FMTTYPE=image/jpeg:https://www.cinemafricano.it/wp-content/uploads/2016/09/Giuseppe-Gariazzo-e1476455946278.jpg
ORGANIZER;CN="Festival di cinema africano":MAILTO:organizzazione@cinemafricano.it
END:VEVENT
END:VCALENDAR