BEGIN:VCALENDAR
VERSION:2.0
PRODID:-//Festival di Cinema Africano - Verona - ECPv6.15.17//NONSGML v1.0//EN
CALSCALE:GREGORIAN
METHOD:PUBLISH
X-WR-CALNAME:Festival di Cinema Africano - Verona
X-ORIGINAL-URL:https://www.cinemafricano.it
X-WR-CALDESC:Eventi per Festival di Cinema Africano - Verona
REFRESH-INTERVAL;VALUE=DURATION:PT1H
X-Robots-Tag:noindex
X-PUBLISHED-TTL:PT1H
BEGIN:VTIMEZONE
TZID:Europe/Rome
BEGIN:DAYLIGHT
TZOFFSETFROM:+0100
TZOFFSETTO:+0200
TZNAME:CEST
DTSTART:20150329T010000
END:DAYLIGHT
BEGIN:STANDARD
TZOFFSETFROM:+0200
TZOFFSETTO:+0100
TZNAME:CET
DTSTART:20151025T010000
END:STANDARD
BEGIN:DAYLIGHT
TZOFFSETFROM:+0100
TZOFFSETTO:+0200
TZNAME:CEST
DTSTART:20160327T010000
END:DAYLIGHT
BEGIN:STANDARD
TZOFFSETFROM:+0200
TZOFFSETTO:+0100
TZNAME:CET
DTSTART:20161030T010000
END:STANDARD
BEGIN:DAYLIGHT
TZOFFSETFROM:+0100
TZOFFSETTO:+0200
TZNAME:CEST
DTSTART:20170326T010000
END:DAYLIGHT
BEGIN:STANDARD
TZOFFSETFROM:+0200
TZOFFSETTO:+0100
TZNAME:CET
DTSTART:20171029T010000
END:STANDARD
END:VTIMEZONE
BEGIN:VEVENT
DTSTART;TZID=Europe/Rome:20161115T204500
DTEND;TZID=Europe/Rome:20161115T230000
DTSTAMP:20260419T210158
CREATED:20161114T030827Z
LAST-MODIFIED:20161114T030827Z
UID:1943-1479242700-1479250800@www.cinemafricano.it
SUMMARY:Festival in provincia: Villafranca
DESCRIPTION:#FCAVinprovincia \nVILLAFRANCA Auditorium comunale\, Piazzale San Francesco \nMartedì 15 novembre ore 20.45 Rock the casbah   \nProiezioni al mattino riservate alle scuole * \nin collaborazione con \n\nAss. alla Cultura Comune di Villafranca\nFondazione CIS\nComunità Emmaus Villafranca\nParrocchia del Duomo\nCommissione Missionaria Vicariale di Villafranca\n\nBiglietti: \nintero 6 euro \nridotto 4 euro (studenti e over 65) \nridotto 3 euro presentando la tessera di socio dei cinema aderenti al Festival in Provincia
URL:https://www.cinemafricano.it/event/festival-in-provincia-villafranca/
LOCATION:Auditorium comunale\, Piazzale San Francesco\, Villafranca\, 37069\, Italia
CATEGORIES:Cinema
ATTACH;FMTTYPE=image/jpeg:https://www.cinemafricano.it/wp-content/uploads/2016/11/locandina_rockthecasbah.jpg
END:VEVENT
BEGIN:VEVENT
DTSTART;TZID=Europe/Rome:20161115T210000
DTEND;TZID=Europe/Rome:20161115T230000
DTSTAMP:20260419T210158
CREATED:20161114T030246Z
LAST-MODIFIED:20161114T030429Z
UID:1936-1479243600-1479250800@www.cinemafricano.it
SUMMARY:Festival in provincia: Sommacampagna e Caselle
DESCRIPTION:#FCAVinprovincia \nSOMMACAMPAGNA e CASELLE al Virtus Cinema\, via Ospedaletto 4\, 349/7795283 \nwww.virtuscinema.it \nwww.comune.sommacampagna.vr.it \nMartedì 15 novembre ore 21.00 Difret – Il coraggio di cambiare \nProiezioni al mattino riservate alle scuole * \nin collaborazione con \n\nAss. alla Cultura Comune di Sommacampagna\nAssociazione Lanterna Magica\nParrocchia Sant’Andrea Apostolo\nVirtus Cinema Sommacampagna\nAssociazione Culturale Créa Custoza\n\nBiglietti: \nintero 6 euro \nridotto 4 euro (studenti e over 65) \nridotto 3 euro presentando la tessera di socio dei cinema aderenti al Festival in Provincia
URL:https://www.cinemafricano.it/event/festival-in-provincia-sommacampagna-e-caselle/
LOCATION:Virtus Cinema\, via Ospedaletto\, 4\, Sommacampagna\, 37066\, Italia
CATEGORIES:Cinema
ATTACH;FMTTYPE=image/jpeg:https://www.cinemafricano.it/wp-content/uploads/2016/02/locandina.jpg
END:VEVENT
END:VCALENDAR