BEGIN:VCALENDAR
VERSION:2.0
PRODID:-//Festival di Cinema Africano - Verona - ECPv6.15.17//NONSGML v1.0//EN
CALSCALE:GREGORIAN
METHOD:PUBLISH
X-WR-CALNAME:Festival di Cinema Africano - Verona
X-ORIGINAL-URL:https://www.cinemafricano.it
X-WR-CALDESC:Eventi per Festival di Cinema Africano - Verona
REFRESH-INTERVAL;VALUE=DURATION:PT1H
X-Robots-Tag:noindex
X-PUBLISHED-TTL:PT1H
BEGIN:VTIMEZONE
TZID:Europe/Rome
BEGIN:DAYLIGHT
TZOFFSETFROM:+0100
TZOFFSETTO:+0200
TZNAME:CEST
DTSTART:20150329T010000
END:DAYLIGHT
BEGIN:STANDARD
TZOFFSETFROM:+0200
TZOFFSETTO:+0100
TZNAME:CET
DTSTART:20151025T010000
END:STANDARD
BEGIN:DAYLIGHT
TZOFFSETFROM:+0100
TZOFFSETTO:+0200
TZNAME:CEST
DTSTART:20160327T010000
END:DAYLIGHT
BEGIN:STANDARD
TZOFFSETFROM:+0200
TZOFFSETTO:+0100
TZNAME:CET
DTSTART:20161030T010000
END:STANDARD
BEGIN:DAYLIGHT
TZOFFSETFROM:+0100
TZOFFSETTO:+0200
TZNAME:CEST
DTSTART:20170326T010000
END:DAYLIGHT
BEGIN:STANDARD
TZOFFSETFROM:+0200
TZOFFSETTO:+0100
TZNAME:CET
DTSTART:20171029T010000
END:STANDARD
END:VTIMEZONE
BEGIN:VEVENT
DTSTART;TZID=Europe/Rome:20161108T180000
DTEND;TZID=Europe/Rome:20161108T230000
DTSTAMP:20260419T210125
CREATED:20160915T142109Z
LAST-MODIFIED:20161023T214958Z
UID:1554-1478628000-1478646000@www.cinemafricano.it
SUMMARY:Festival in città
DESCRIPTION:#FCAV2016 \nTEATRO CAMPLOY  \n18.00 FILM IN CONCORSO VIAGGIATORI&MIGRANTI \nPiume (15’) – CM \nLoro di Napoli (75’) – LM \n  \n21.00 FILM IN CONCORSO VIAGGIATORI&MIGRANTI \nNkosi coiffure (14′) – CM                                \nDevil comes to Koko (49′) – MM    \nConduce il dibattito Jessica Cugini (giornalista Combonifem)\, ospiti il regista Alfie Nze e Vittorio Rinaldi (presidente Ctm Altromercato). \nBiglietti \nIntero: 6\,00 euro \nRidotto: 4\,00 euro (studenti e over 65 anni) \nRidotto Scuole: 3\,50 euro (previa prenotazione) \nRidotto: 3\,00 euro presentando la tessera di socio Circolo del Cinema e Cineforum dei cinema aderenti al Festival in Provincia
URL:https://www.cinemafricano.it/event/36-festival-in-citta-4/
LOCATION:Teatro Camploy\, Via Cantarane\, 32\, 3\,  Verona\, 37121\, Italia
CATEGORIES:Cinema
ATTACH;FMTTYPE=image/jpeg:https://www.cinemafricano.it/wp-content/uploads/2016/09/profilo_FCAV.jpg
ORGANIZER;CN="Festival di cinema africano":MAILTO:organizzazione@cinemafricano.it
END:VEVENT
END:VCALENDAR