BEGIN:VCALENDAR
VERSION:2.0
PRODID:-//Festival di Cinema Africano - Verona - ECPv6.15.17//NONSGML v1.0//EN
CALSCALE:GREGORIAN
METHOD:PUBLISH
X-WR-CALNAME:Festival di Cinema Africano - Verona
X-ORIGINAL-URL:https://www.cinemafricano.it
X-WR-CALDESC:Eventi per Festival di Cinema Africano - Verona
REFRESH-INTERVAL;VALUE=DURATION:PT1H
X-Robots-Tag:noindex
X-PUBLISHED-TTL:PT1H
BEGIN:VTIMEZONE
TZID:Europe/Rome
BEGIN:DAYLIGHT
TZOFFSETFROM:+0100
TZOFFSETTO:+0200
TZNAME:CEST
DTSTART:20150329T010000
END:DAYLIGHT
BEGIN:STANDARD
TZOFFSETFROM:+0200
TZOFFSETTO:+0100
TZNAME:CET
DTSTART:20151025T010000
END:STANDARD
BEGIN:DAYLIGHT
TZOFFSETFROM:+0100
TZOFFSETTO:+0200
TZNAME:CEST
DTSTART:20160327T010000
END:DAYLIGHT
BEGIN:STANDARD
TZOFFSETFROM:+0200
TZOFFSETTO:+0100
TZNAME:CET
DTSTART:20161030T010000
END:STANDARD
BEGIN:DAYLIGHT
TZOFFSETFROM:+0100
TZOFFSETTO:+0200
TZNAME:CEST
DTSTART:20170326T010000
END:DAYLIGHT
BEGIN:STANDARD
TZOFFSETFROM:+0200
TZOFFSETTO:+0100
TZNAME:CET
DTSTART:20171029T010000
END:STANDARD
END:VTIMEZONE
BEGIN:VEVENT
DTSTART;VALUE=DATE:20160508
DTEND;VALUE=DATE:20160509
DTSTAMP:20260420T050519
CREATED:20160415T120440Z
LAST-MODIFIED:20160915T125845Z
UID:962-1462665600-1462751999@www.cinemafricano.it
SUMMARY:Festival Tutto L'Anno
DESCRIPTION:Il Festival Tutto L’Anno del Festival di cinema africano arriva al suo ultimo appuntamento con la proiezione di cinque cortometraggi della sezione Africa Short.\nSi tratta dei migliori corti presentati durante l’ultima edizione del Festival di Cinema Africano\, nel 2015. \nIl costo dei biglietti è di €6\, ridotti €4.
URL:https://www.cinemafricano.it/event/festival-tutto-lanno/
LOCATION:Cinema Teatro Santa Teresa\, Via Molinara\, 23\,  Verona\, VR\, 37135\, Italia
CATEGORIES:Cinema
ORGANIZER;CN="Festival di cinema africano":MAILTO:organizzazione@cinemafricano.it
END:VEVENT
END:VCALENDAR